BEGIN:VCALENDAR
PRODID:-//eluceo/ical//2.0/EN
VERSION:2.0
CALSCALE:GREGORIAN
BEGIN:VEVENT
UID:0efcad1ed51a4b71250a97a86654abce
DTSTAMP:20260422T082513Z
SUMMARY:RJA Plant Sale
DESCRIPTION:Jewish Federation & Foundation of Rockland County\nCommunity Ca
 lendar\nhttps://jewishrockland.org/calendar/rja-plant-sale-1431008348-1447
 69\n\nRockland Jewish Academy's Annual Plant Sale
DTSTART;TZID=America/New_York:20160506T090000
DTEND;TZID=America/New_York:20160506T150000
END:VEVENT
END:VCALENDAR
