BEGIN:VCALENDAR
PRODID:-//eluceo/ical//2.0/EN
VERSION:2.0
CALSCALE:GREGORIAN
BEGIN:VEVENT
UID:667fe26f86e6f0a855f9971be8014bb5
DTSTAMP:20260423T155627Z
SUMMARY:RJA Spring Celebration
DESCRIPTION:Jewish Federation & Foundation of Rockland County\nCommunity Ca
 lendar\nhttps://jewishrockland.org/calendar/rja-spring-celebration-2017-18
 6493\n\nRJA Spring Celebration. Visit rocklandjewishacademy.org for more i
 nformation.
DTSTART;TZID=America/New_York:20170521T170000
DTEND;TZID=America/New_York:20170521T190000
END:VEVENT
END:VCALENDAR
