BEGIN:VCALENDAR
PRODID:-//eluceo/ical//2.0/EN
VERSION:2.0
CALSCALE:GREGORIAN
BEGIN:VEVENT
UID:2dd3f2ddfab5943cf0c360a6716b745c
DTSTAMP:20260422T080945Z
SUMMARY:RJA Thanksgiving Project
DESCRIPTION:Jewish Federation & Foundation of Rockland County\nCommunity Ca
 lendar\nhttps://jewishrockland.org/calendar/rja-thanksgiving-project-14103
 79160\n\nRockland Jewish Academy's Thanksgiving Project
DTSTART;TZID=America/New_York:20141116T100000
DTEND;TZID=America/New_York:20141116T120000
END:VEVENT
END:VCALENDAR
