BEGIN:VCALENDAR
PRODID:-//eluceo/ical//2.0/EN
VERSION:2.0
CALSCALE:GREGORIAN
BEGIN:VEVENT
UID:bbadff4b7ed7f4e46ad805b0517e78c5
DTSTAMP:20260419T182720Z
SUMMARY:RJFS Annual Gala
DESCRIPTION:Jewish Federation & Foundation of Rockland County\nCommunity Ca
 lendar\nhttps://jewishrockland.org/calendar/rjfs-annual-gala\n\nRJFS Annua
 l Gala
DTSTART;TZID=America/New_York:20140601T170000
DTEND;TZID=America/New_York:20140601T210000
END:VEVENT
END:VCALENDAR
