BEGIN:VCALENDAR
PRODID:-//eluceo/ical//2.0/EN
VERSION:2.0
CALSCALE:GREGORIAN
BEGIN:VEVENT
UID:8b9b574f80751569ca5c5a027fc85297
DTSTAMP:20260419T140807Z
SUMMARY:RJFS Annual Gala 2015
DESCRIPTION:Jewish Federation & Foundation of Rockland County\nCommunity Ca
 lendar\nhttps://jewishrockland.org/calendar/rjfs-annual-gala-1414505849\n\
 nAnnual Gala to support Rockland Jewish Family Service
DTSTART;TZID=America/New_York:20150531T173000
DTEND;TZID=America/New_York:20150531T203000
END:VEVENT
END:VCALENDAR
