BEGIN:VCALENDAR
PRODID:-//eluceo/ical//2.0/EN
VERSION:2.0
CALSCALE:GREGORIAN
BEGIN:VEVENT
UID:466aa906f16f5d823c0c9cfd0ff0794c
DTSTAMP:20260421T123909Z
SUMMARY:RJFS Benefit to honor the memory of Bobbie Goldstein
DESCRIPTION:Jewish Federation & Foundation of Rockland County\nCommunity Ca
 lendar\nhttps://jewishrockland.org/calendar/rjfs-benefit-to-honor-the-memo
 ry-of-bobbie-goldstein-1756315003\n\nJoin us in celebrating the life of Bo
 bbie Goldstein z''l as we recognize her deep involvement in the Jewish com
 munity. In honor of Bobbie's love of live performance and music\, we welco
 me a cappella sensation Six Thirteen to round out the evening.\n\nSend you
 r stories and photos\, along with tribute messages\, to the Memory Journal
 . Attend and enjoy a delightful cocktail hour and buffet\, and hear from f
 riends and family about Bobbie's lasting impact on Rockland County\, the n
 ational Jewish commun...
DTSTART;TZID=America/New_York:20251026T173000
DTEND;TZID=America/New_York:20251026T200000
END:VEVENT
END:VCALENDAR
