BEGIN:VCALENDAR
PRODID:-//eluceo/ical//2.0/EN
VERSION:2.0
CALSCALE:GREGORIAN
BEGIN:VEVENT
UID:ebbc8835a0fb956db89f912c7f356076
DTSTAMP:20260419T213747Z
SUMMARY:RJFS Camp Open House
DESCRIPTION:Jewish Federation & Foundation of Rockland County\nCommunity Ca
 lendar\nhttps://jewishrockland.org/calendar/rjfs-camp-open-house\n\nRJFS C
 amp Open House
DTSTART;TZID=America/New_York:20140112T100000
DTEND;TZID=America/New_York:20140112T130000
END:VEVENT
END:VCALENDAR
