BEGIN:VCALENDAR
PRODID:-//eluceo/ical//2.0/EN
VERSION:2.0
CALSCALE:GREGORIAN
BEGIN:VEVENT
UID:e59893c5eed80c599933bb8026d88799
DTSTAMP:20260425T142717Z
SUMMARY:RJFS Three-Course Cooking Demonstration with Tamar Genger
DESCRIPTION:Jewish Federation & Foundation of Rockland County\nCommunity Ca
 lendar\nhttps://jewishrockland.org/calendar/rjfs-cooking-demonstration-tam
 ar-genger-1411489507-112951\n\nKosher cooking demonstration with Tamar Gen
 ger.\n\nTamar Genger\, MA\, RD is the Director of Digital Media for Kosher
  Media Network and founder and Executive Editor of joyofkosher.com\, the w
 orld’s largest online Jewish food community and an expert on kosher heal
 th and nutrition. Tamar is also an editor and regular contributor for Joy 
 of Kosher with Jamie Geller Magazine.\n\nCheck out her receipts at http://
 www.joyofkosher.com/author/tgenger/\n\nBe a Donor: $100\nBe a Sponsor: $25
 0
DTSTART;TZID=America/New_York:20141201T183000
DTEND;TZID=America/New_York:20141201T210000
END:VEVENT
END:VCALENDAR
