BEGIN:VCALENDAR
PRODID:-//eluceo/ical//2.0/EN
VERSION:2.0
CALSCALE:GREGORIAN
BEGIN:VEVENT
UID:12e6443be275b5158235c7259767fb90
DTSTAMP:20260421T074147Z
SUMMARY:RJFS Gala
DESCRIPTION:Jewish Federation & Foundation of Rockland County\nCommunity Ca
 lendar\nhttps://jewishrockland.org/calendar/rjfs-gala-2018\n\nSave the dat
 e for the Rockland Jewish Family Service annual gala!\n\nCheck back for de
 tails or visit rjfs.org\n\n 
DTSTART;TZID=America/New_York:20180506T180000
DTEND;TZID=America/New_York:20180506T220000
END:VEVENT
END:VCALENDAR
