BEGIN:VCALENDAR
PRODID:-//eluceo/ical//2.0/EN
VERSION:2.0
CALSCALE:GREGORIAN
BEGIN:VEVENT
UID:2b6b2a8526fd354f1a7a356fb10dbbb0
DTSTAMP:20260424T073503Z
SUMMARY:RJFS Unsung Heroes Brunch
DESCRIPTION:Jewish Federation & Foundation of Rockland County\nCommunity Ca
 lendar\nhttps://jewishrockland.org/calendar/rjfs-unsung-heroes-brunch-1546
 546345\n\nHelp us honor several of the people who work tirelessly\, and wi
 thout much recognition\, to make our agency strong.
DTSTART;TZID=America/New_York:20191215T100000
DTEND;TZID=America/New_York:20191215T120000
END:VEVENT
END:VCALENDAR
