BEGIN:VCALENDAR
PRODID:-//eluceo/ical//2.0/EN
VERSION:2.0
CALSCALE:GREGORIAN
BEGIN:VEVENT
UID:caccfeff8e25beb7086504621f02f2ff
DTSTAMP:20260425T154232Z
SUMMARY:RJFS Unsung Heroes Brunch
DESCRIPTION:Jewish Federation & Foundation of Rockland County\nCommunity Ca
 lendar\nhttps://jewishrockland.org/calendar/rjfs-unsung-heroes-brunch-7431
 \n\nRJFS Unsung Heroes Brunch
DTSTART;TZID=America/New_York:20131208T100000
DTEND;TZID=America/New_York:20131208T120000
END:VEVENT
END:VCALENDAR
