BEGIN:VCALENDAR
PRODID:-//eluceo/ical//2.0/EN
VERSION:2.0
CALSCALE:GREGORIAN
BEGIN:VEVENT
UID:c31dc0ce2ffb968e4e560ca48fe547d2
DTSTAMP:20260422T134047Z
SUMMARY:RJI Synagogue Leadership Council Meeting
DESCRIPTION:Jewish Federation & Foundation of Rockland County\nCommunity Ca
 lendar\nhttps://jewishrockland.org/calendar/rji-synagogue-leadership-counc
 il-meeting-1415043562-124197\n\nA review & discussion of the results from 
 the synagogue leadership survey
DTSTART;TZID=America/New_York:20141112T183000
DTEND;TZID=America/New_York:20141112T200000
END:VEVENT
END:VCALENDAR
