BEGIN:VCALENDAR
PRODID:-//eluceo/ical//2.0/EN
VERSION:2.0
CALSCALE:GREGORIAN
BEGIN:VEVENT
UID:c1d434a1de8c7c8dc3f8cd1d8a65256f
DTSTAMP:20260424T123255Z
SUMMARY:RJI Synagogue Leadership Council Meeting
DESCRIPTION:Jewish Federation & Foundation of Rockland County\nCommunity Ca
 lendar\nhttps://jewishrockland.org/calendar/rji-synagogue-leadership-counc
 il-meeting-mar-63803\n\nA meeting of Rockland Jewish Initiative’s Synago
 gue Leadership Council (SLC).\n\nDetails to come.
DTSTART;TZID=America/New_York:20150312T183000
DTEND;TZID=America/New_York:20150312T200000
END:VEVENT
END:VCALENDAR
