BEGIN:VCALENDAR
PRODID:-//eluceo/ical//2.0/EN
VERSION:2.0
CALSCALE:GREGORIAN
BEGIN:VEVENT
UID:efa4b6c5cea77b82f1d1bd3f7698cd34
DTSTAMP:20260420T001832Z
SUMMARY:Rock My Soul Shabbat : A Musical Family Service
DESCRIPTION:Jewish Federation & Foundation of Rockland County\nCommunity Ca
 lendar\nhttps://jewishrockland.org/calendar/rock-my-soul-shabbat--a-musica
 l-family-service-1466623459\n\nRock My Soul Shabbat: A Musical Family Serv
 ice is a monthly service for kids\, teens\, grandparents.... families! Rab
 bi Brian Leiken and Cantor Anna Zhar lead a multi-instrument acoustic band
  in song and prayer for a one hour service that carries a folksy vibe back
 ed by keyboards\, drums and guitars
DTSTART;TZID=America/New_York:20161104T183000
DTEND;TZID=America/New_York:20161104T193000
END:VEVENT
END:VCALENDAR
