BEGIN:VCALENDAR
PRODID:-//eluceo/ical//2.0/EN
VERSION:2.0
CALSCALE:GREGORIAN
BEGIN:VEVENT
UID:0fe3f25b3a1ae95e525df27388d97efd
DTSTAMP:20260425T004724Z
SUMMARY:Rock My Soul Shabbat : A Musical Family Service
DESCRIPTION:Jewish Federation & Foundation of Rockland County\nCommunity Ca
 lendar\nhttps://jewishrockland.org/calendar/rock-my-soul-shabbat--a-musica
 l-family-service-1466623880\n\nRock My Soul Shabbat: A Musical Family Serv
 ice is a monthly service for kids\, teens\, parents\, grandparents.... fam
 ilies! Rabbi Brian Leiken and Cantor Anna Zhar lead a multi-instrument aco
 ustic band in song and prayer for a one hour service that carries a folksy
  vibe backed by keyboards\, drums and guitars.
DTSTART;TZID=America/New_York:20170203T183000
DTEND;TZID=America/New_York:20170203T193000
END:VEVENT
END:VCALENDAR
