BEGIN:VCALENDAR
PRODID:-//eluceo/ical//2.0/EN
VERSION:2.0
CALSCALE:GREGORIAN
BEGIN:VEVENT
UID:d67747390027e2e09b2cf335475e5702
DTSTAMP:20260425T041108Z
SUMMARY:Rock My Soul Shabbat
DESCRIPTION:Jewish Federation & Foundation of Rockland County\nCommunity Ca
 lendar\nhttps://jewishrockland.org/calendar/rock-my-soul-shabbat-TBS-Feb-2
 \n\nJoin Temple Beth Sholom for an acoustic Shabbat! Oneg to follow.
DTSTART;TZID=America/New_York:20180202T183000
DTEND;TZID=America/New_York:20180202T200000
END:VEVENT
END:VCALENDAR
