BEGIN:VCALENDAR
PRODID:-//eluceo/ical//2.0/EN
VERSION:2.0
CALSCALE:GREGORIAN
BEGIN:VEVENT
UID:162536c7650ddedafd938dbf66ecb596
DTSTAMP:20260421T000922Z
SUMMARY:Rock My Soul Shabbat: A Musical Family Service
DESCRIPTION:Jewish Federation & Foundation of Rockland County\nCommunity Ca
 lendar\nhttps://jewishrockland.org/calendar/rock-my-soul-shabbat-a-musical
 -family-service-1466623197\n\nRock My Soul Shabbat: A Musical Family Servi
 ce is a monthly service for kids\, teens\, grandparents.... families! Rabb
 i Brian Leiken and Cantor Anna Zhar lead a multi-instrument acoustic band 
 in song and prayer for a one hour service that carries a folksy vibe backe
 d by keyboards\, drums and guitars.
DTSTART;TZID=America/New_York:20160909T183000
DTEND;TZID=America/New_York:20160909T193000
END:VEVENT
END:VCALENDAR
