BEGIN:VCALENDAR
PRODID:-//eluceo/ical//2.0/EN
VERSION:2.0
CALSCALE:GREGORIAN
BEGIN:VEVENT
UID:03acdc8b42d8af9b24b0dc434012d5ae
DTSTAMP:20260420T101435Z
SUMMARY:Rockland Chapter of Hadassah Fashion Show
DESCRIPTION:Jewish Federation & Foundation of Rockland County\nCommunity Ca
 lendar\nhttps://jewishrockland.org/calendar/rockland-chapter-of-hadassah-f
 ashion-show\n\nHadassah Fashion Show
DTSTART;TZID=America/New_York:20130508T180000
DTEND;TZID=America/New_York:20130508T213000
END:VEVENT
END:VCALENDAR
