BEGIN:VCALENDAR
PRODID:-//eluceo/ical//2.0/EN
VERSION:2.0
CALSCALE:GREGORIAN
BEGIN:VEVENT
UID:f8fa217a170f2fb79076ee79c8f54d76
DTSTAMP:20260419T193606Z
SUMMARY:Rockland Day of Jewish Learning
DESCRIPTION:Jewish Federation & Foundation of Rockland County\nCommunity Ca
 lendar\nhttps://jewishrockland.org/calendar/rockland-day-of-jewish-learnin
 g-1738599957\n\nJoin us in person or online for as many 1-hour classes as 
 you'd like from 9:30-1:00 with Rockland's finest rabbis. This year's theme
 - "One People"
DTSTART;TZID=America/New_York:20250223T093000
DTEND;TZID=America/New_York:20250223T130000
END:VEVENT
END:VCALENDAR
