BEGIN:VCALENDAR
PRODID:-//eluceo/ical//2.0/EN
VERSION:2.0
CALSCALE:GREGORIAN
BEGIN:VEVENT
UID:0881cbb36996e1562cd22ad0ddc94981
DTSTAMP:20260424T145010Z
SUMMARY:Rockland Family Fun Fair
DESCRIPTION:Jewish Federation & Foundation of Rockland County\nCommunity Ca
 lendar\nhttps://jewishrockland.org/calendar/rockland-family-fun-fair-15778
 16072-338205\n\nJoin us as we walk in support of children with special nee
 ds at the Friendship Circle of Rockland’s Friendship Walk. After the wal
 k\, participants and their families are invited to celebrate and enjoy a f
 air with inflatables\, rides\, art\, face painting\, animals\, and a show.
DTSTART;TZID=America/New_York:20200503T000000
DTEND;TZID=America/New_York:20200503T000000
END:VEVENT
END:VCALENDAR
