BEGIN:VCALENDAR
PRODID:-//eluceo/ical//2.0/EN
VERSION:2.0
CALSCALE:GREGORIAN
BEGIN:VEVENT
UID:cc6983de631a71b0f5f7fbc337390b70
DTSTAMP:20260422T032448Z
SUMMARY:Federation's Annual Campaign 2016 Launch and Awards Brunch
DESCRIPTION:Jewish Federation & Foundation of Rockland County\nCommunity Ca
 lendar\nhttps://jewishrockland.org/calendar/rockland-federation-2016-campa
 ign-launch-140239\n\nYou are invited to Federation's Annual Campaign 2016 
 Launch and Awards Brunch!\n\nMeet our Honorees\n\nPHILANTHROPY AWARD: Bob 
 and Lois Silverman have been active in the Rockland Jewish community since
  1982\, when Bob returned from his first trip to Israel. Bob went on to be
 come a founding member of the Jewish Federation of Rockland County\, the J
 CC\, the Rockland Jewish Community Campus and Rockland Jewish Family Servi
 ce.\n\nA life member of Hadassah\, Lois Silverman has served on the Jewish
  Fed...
DTSTART;TZID=America/New_York:20151018T110000
DTEND;TZID=America/New_York:20151018T140000
END:VEVENT
END:VCALENDAR
