BEGIN:VCALENDAR
PRODID:-//eluceo/ical//2.0/EN
VERSION:2.0
CALSCALE:GREGORIAN
BEGIN:VEVENT
UID:3762928c3a49ce902951c82197c9e6ee
DTSTAMP:20260419T164719Z
SUMMARY:Rockland Israel Bonds Women's Division Virtual World Tour
DESCRIPTION:Jewish Federation & Foundation of Rockland County\nCommunity Ca
 lendar\nhttps://jewishrockland.org/calendar/rockland-israel-bonds-womens-d
 ivision-virtual-world-tour-1611178537\n\nRockland Women's Division virtual
 ly visits Buenos Aires
DTSTART;TZID=America/New_York:20210504T190000
DTEND;TZID=America/New_York:20210504T200000
END:VEVENT
END:VCALENDAR
