BEGIN:VCALENDAR
PRODID:-//eluceo/ical//2.0/EN
VERSION:2.0
CALSCALE:GREGORIAN
BEGIN:VEVENT
UID:5d3241a5e47edaa8954733a427098953
DTSTAMP:20260419T180148Z
SUMMARY:Rockland Jewish Academy Family Chanukah Party
DESCRIPTION:Jewish Federation & Foundation of Rockland County\nCommunity Ca
 lendar\nhttps://jewishrockland.org/calendar/rockland-jewish-academy-family
 -chanukah-party-1430857922-144509\n\nRJA family Chanukah celebration
DTSTART;TZID=America/New_York:20151210T180000
DTEND;TZID=America/New_York:20151210T200000
END:VEVENT
END:VCALENDAR
