BEGIN:VCALENDAR
PRODID:-//eluceo/ical//2.0/EN
VERSION:2.0
CALSCALE:GREGORIAN
BEGIN:VEVENT
UID:303d2859797bd7cbbe69ee654f04d1cb
DTSTAMP:20260421T175730Z
SUMMARY:Rockland Jewish Academy Graduation
DESCRIPTION:Jewish Federation & Foundation of Rockland County\nCommunity Ca
 lendar\nhttps://jewishrockland.org/calendar/rockland-jewish-academy-gradua
 tion-1431007035-144757\n\nRockland Jewish Academy's Fifth Grade Graduation
DTSTART;TZID=America/New_York:20150616T190000
DTEND;TZID=America/New_York:20150616T210000
END:VEVENT
END:VCALENDAR
