BEGIN:VCALENDAR
PRODID:-//eluceo/ical//2.0/EN
VERSION:2.0
CALSCALE:GREGORIAN
BEGIN:VEVENT
UID:d0bc651d7073eb9f3c2391fbe017eb89
DTSTAMP:20260422T043806Z
SUMMARY:Rockland Jewish Academy Graduation
DESCRIPTION:Jewish Federation & Foundation of Rockland County\nCommunity Ca
 lendar\nhttps://jewishrockland.org/calendar/rockland-jewish-academy-gradua
 tion-1431008609-144772\n\nRockland Jewish Academy's Fifth Grade Graduation
DTSTART;TZID=America/New_York:20160616T190000
DTEND;TZID=America/New_York:20160617T210000
END:VEVENT
END:VCALENDAR
