BEGIN:VCALENDAR
PRODID:-//eluceo/ical//2.0/EN
VERSION:2.0
CALSCALE:GREGORIAN
BEGIN:VEVENT
UID:423cec9a4c42fcc1e6358cda7306442d
DTSTAMP:20260419T221830Z
SUMMARY:Rockland Jewish Academy Siddur Ceremony
DESCRIPTION:Jewish Federation & Foundation of Rockland County\nCommunity Ca
 lendar\nhttps://jewishrockland.org/calendar/rockland-jewish-academy-siddur
 -ceremony\n\nRJA Siddur Ceremony
DTSTART;TZID=America/New_York:20130510T093000
DTEND;TZID=America/New_York:20130510T113000
END:VEVENT
END:VCALENDAR
