BEGIN:VCALENDAR
PRODID:-//eluceo/ical//2.0/EN
VERSION:2.0
CALSCALE:GREGORIAN
BEGIN:VEVENT
UID:a12f26140ab4fc40b0c78fcfb35bfb32
DTSTAMP:20260424T092006Z
SUMMARY:Rockland's Journey to Israel
DESCRIPTION:Jewish Federation & Foundation of Rockland County\nCommunity Ca
 lendar\nhttps://jewishrockland.org/calendar/rockland-journey-to-israel-249
 813\n\nRegister before April 15 and save $360! \n(Cost is $2\,640 per pers
 on\, double occupancy when you register by 4/15. $1\,000 single supplement
 . Airfare not included. $350 non-refundable deposit due upon registration.
 )\n\nJoin Rockland Federation on a Legacy Journey to Israel!\n\n• Start 
 with a festive opening cocktail reception on Wednesday\, October 17\, 2018
  at 5:00 pm at the Inbal Hotel in Jerusalem\n• End with a final ”farew
 ell” dinner on Wednesday\, October 24\, 2018 in Tel Aviv\n• Enj...
DTSTART;TZID=America/New_York:20181017T090000
DTEND;TZID=America/New_York:20181024T210000
END:VEVENT
END:VCALENDAR
