BEGIN:VCALENDAR
PRODID:-//eluceo/ical//2.0/EN
VERSION:2.0
CALSCALE:GREGORIAN
BEGIN:VEVENT
UID:1e02a6535539f9ab63db192437b24c02
DTSTAMP:20260421T173036Z
SUMMARY:Rockland Mom-to-Mom at CSI
DESCRIPTION:Jewish Federation & Foundation of Rockland County\nCommunity Ca
 lendar\nhttps://jewishrockland.org/calendar/rockland-mom-to-mom-at-csi-141
 9182914\n\nRockland Mom-to-Mom at CSI\, January 8 and 22 - 11 am – 12 pm
 . Congregation Sons of Israel (CSI) is delighted to offer a support group 
 for new moms and their babies age -1 year to support one another and help 
 each other navigate the news days of parenting. Our facilitator\, Gail Cir
 lin-Lazerus\, LMSW\, CD (DONA)\, LCCE\, CLC is a licensed master social wo
 rker who specializes in women\, parenting and perinatal wellness. She is a
 lso a birth doula\, childbirth educator\, lactation counselor and mom of .
 ..
DTSTART;TZID=America/New_York:20150108T110000
DTEND;TZID=America/New_York:20150108T120000
END:VEVENT
END:VCALENDAR
