BEGIN:VCALENDAR
PRODID:-//eluceo/ical//2.0/EN
VERSION:2.0
CALSCALE:GREGORIAN
BEGIN:VEVENT
UID:64ce9db9e70eb6dcd5b7f8921b2c9507
DTSTAMP:20260421T070148Z
SUMMARY:Rockland Mom-to-Mom at CSI
DESCRIPTION:Jewish Federation & Foundation of Rockland County\nCommunity Ca
 lendar\nhttps://jewishrockland.org/calendar/rockland-mom-to-mom-at-csi-142
 2394639\n\nRockland Mom-to-Mom at CSI\, February 5 and 19 - 11 am – 12 p
 m.\nCongregation Sons of Israel (CSI) is delighted to offer a support grou
 p for new moms and their babies age -1 year to support one another and hel
 p each other navigate the news days of parenting. Our facilitator\, Gail C
 irlin-Lazerus\, LMSW\, CD (DONA)\, LCCE\, CLC is a licensed master social 
 worker who specializes in women\, parenting and perinatal wellness. She is
  also a birth doula\, childbirth educator\, lactation counselor and mom o.
 ..
DTSTART;TZID=America/New_York:20150305T110000
DTEND;TZID=America/New_York:20150319T120000
END:VEVENT
END:VCALENDAR
