BEGIN:VCALENDAR
PRODID:-//eluceo/ical//2.0/EN
VERSION:2.0
CALSCALE:GREGORIAN
BEGIN:VEVENT
UID:1998ce2e7e68276af56e322f9af3f3da
DTSTAMP:20260422T090954Z
SUMMARY:Rockland Mom-to-Mom at CSI
DESCRIPTION:Jewish Federation & Foundation of Rockland County\nCommunity Ca
 lendar\nhttps://jewishrockland.org/calendar/rockland-mom-to-mom-at-csi-142
 6109470\n\nRockland Mom-to-Mom at CSI\, April 2\, 16\, and 30 - 11 am – 
 12 pm. Congregation Sons of Israel (CSI) is delighted to offer a support g
 roup for new moms and their babies age -1 year to support one another and 
 help each other navigate the news days of parenting. Our facilitator\, Gai
 l Cirlin-Lazerus\, LMSW\, CD (DONA)\, LCCE\, CLC is a licensed master soci
 al worker who specializes in women\, parenting and perinatal wellness. She
  is also a birth doula\, childbirth educator\, lactation counselor and mom
  ...
DTSTART;TZID=America/New_York:20150402T110000
DTEND;TZID=America/New_York:20150402T120000
END:VEVENT
END:VCALENDAR
