BEGIN:VCALENDAR
PRODID:-//eluceo/ical//2.0/EN
VERSION:2.0
CALSCALE:GREGORIAN
BEGIN:VEVENT
UID:bcabe94ddad5783707ac2697a375e628
DTSTAMP:20260421T110012Z
SUMMARY:Rockland/New City Hadassah Fashion Show
DESCRIPTION:Jewish Federation & Foundation of Rockland County\nCommunity Ca
 lendar\nhttps://jewishrockland.org/calendar/rockland-new-city-hadassah-fas
 hion-show\n\nHadassah Fashion Show
DTSTART;TZID=America/New_York:20140514T183000
DTEND;TZID=America/New_York:20140514T213000
END:VEVENT
END:VCALENDAR
