BEGIN:VCALENDAR
PRODID:-//eluceo/ical//2.0/EN
VERSION:2.0
CALSCALE:GREGORIAN
BEGIN:VEVENT
UID:319b4b51fc7e8fc2b41ef49e75713ffb
DTSTAMP:20260421T230136Z
SUMMARY:Rosh Hashanah Children’s Services at CSI-Sept.26
DESCRIPTION:Jewish Federation & Foundation of Rockland County\nCommunity Ca
 lendar\nhttps://jewishrockland.org/calendar/rosh-hashanah-childrens-servic
 es-csi-sept26\n\nSeptember 25 and 26\, 11 a.m. Rosh Hashanah Children’s 
 Services at CSI\nWe have a full range of programs for each member of the f
 amily. 0-3 year olds led by\nBethel Marcus\, 4-7 year olds led by Michelle
  Emuna\, and 8-12 year olds led by Becky Mitchel.\nFree to members. Congre
 gation Sons of Israel\, 300 N. Broadway\, Upper Nyack\, NY 10960. For High
  Holiday Tickets\, call the CSI office at 845-358-3767 or csioffice@optonl
 ine.net
DTSTART;TZID=America/New_York:20140926T110000
DTEND;TZID=America/New_York:20140926T120000
END:VEVENT
END:VCALENDAR
