BEGIN:VCALENDAR
PRODID:-//eluceo/ical//2.0/EN
VERSION:2.0
CALSCALE:GREGORIAN
BEGIN:VEVENT
UID:f39e6f4fac1e2036cbf658da2b66d17f
DTSTAMP:20260425T152846Z
SUMMARY:Run for the six
DESCRIPTION:Jewish Federation & Foundation of Rockland County\nCommunity Ca
 lendar\nhttps://jewishrockland.org/calendar/run-for-the-six-1612299605\n\n
 HMCTE- Run for the six
DTSTART;TZID=America/New_York:20211017T090000
DTEND;TZID=America/New_York:20211017T110000
END:VEVENT
END:VCALENDAR
