BEGIN:VCALENDAR
PRODID:-//eluceo/ical//2.0/EN
VERSION:2.0
CALSCALE:GREGORIAN
BEGIN:VEVENT
UID:6d0bbb822fce040e18e35d3143024134
DTSTAMP:20260425T104457Z
SUMMARY:Run for the Six
DESCRIPTION:Jewish Federation & Foundation of Rockland County\nCommunity Ca
 lendar\nhttps://jewishrockland.org/calendar/run-for-the-six-1701876966\n\n
 Run for the six
DTSTART;TZID=America/New_York:20240922T090000
DTEND;TZID=America/New_York:20240922T110000
END:VEVENT
END:VCALENDAR
