BEGIN:VCALENDAR
PRODID:-//eluceo/ical//2.0/EN
VERSION:2.0
CALSCALE:GREGORIAN
BEGIN:VEVENT
UID:eec01af1d99043de16c8332cb419660d
DTSTAMP:20260419T134916Z
SUMMARY:Sandra Smith\, Translator of Irene Nemirovsky Novels
DESCRIPTION:Jewish Federation & Foundation of Rockland County\nCommunity Ca
 lendar\nhttps://jewishrockland.org/calendar/sandra-smith-translator-of-ire
 ne-nemirovsky-novels\n\nSandra Smith\, Translator of Irene Nemirovsky Nove
 l
DTSTART;TZID=America/New_York:20130613T180000
DTEND;TZID=America/New_York:20130613T183000
END:VEVENT
END:VCALENDAR
