BEGIN:VCALENDAR
PRODID:-//eluceo/ical//2.0/EN
VERSION:2.0
CALSCALE:GREGORIAN
BEGIN:VEVENT
UID:57d31e69a2e39bf9fc201d7e0edc07c7
DTSTAMP:20260420T161346Z
SUMMARY:Saturday with Sinatra
DESCRIPTION:Jewish Federation & Foundation of Rockland County\nCommunity Ca
 lendar\nhttps://jewishrockland.org/calendar/saturday-with-sinatra-7468\n\n
 Saturday with Sinatra
DTSTART;TZID=America/New_York:20140208T193000
DTEND;TZID=America/New_York:20140208T223000
END:VEVENT
END:VCALENDAR
