BEGIN:VCALENDAR
PRODID:-//eluceo/ical//2.0/EN
VERSION:2.0
CALSCALE:GREGORIAN
BEGIN:VEVENT
UID:d410beebd53904b7b29ecca39eefc415
DTSTAMP:20260420T073259Z
SUMMARY:Scholar-in-Residence Kallah Weekend
DESCRIPTION:Jewish Federation & Foundation of Rockland County\nCommunity Ca
 lendar\nhttps://jewishrockland.org/calendar/scholar-in-residence-kallah-we
 ekend-1414904770\n\nHOWARD BLUM\, contributing editor at Vanity Fair and t
 wice-nominated Pulitzer Prize journalist\, will discuss two of his most im
 portant books: "The Brigade: An Epic Story of Vengeance\, Salvation & Worl
 d War II" on Friday\, January 23 at 8:15 PM\, and "The Eve of Destruction:
  The Untold Story of the Yom Kippur War" on Saturday\, January 24 at 10:45
  AM.\n\nFor more details on the event\, please contact New City Jewish Cen
 ter at ncjc@newcityjc.org or 845.638.9600.
DTSTART;TZID=America/New_York:20150123T183000
DTEND;TZID=America/New_York:20150124T120000
END:VEVENT
END:VCALENDAR
