BEGIN:VCALENDAR
PRODID:-//eluceo/ical//2.0/EN
VERSION:2.0
CALSCALE:GREGORIAN
BEGIN:VEVENT
UID:833b03ae2ce563916004570e957011b1
DTSTAMP:20260422T223752Z
SUMMARY:Sephardi & Mizrachi Shabbat
DESCRIPTION:Jewish Federation & Foundation of Rockland County\nCommunity Ca
 lendar\nhttps://jewishrockland.org/calendar/sephardi--mizrachi-shabbat-173
 3802126\n\nCSI  March 29\, 2025 Services 9:30 Lunch 11:30 a.m.\nJoin us fo
 r a variation of our typical Shabbat experience featuring:\nSephardic  sty
 le seating \, Prayer melodies from the Sephardic tradition\, Torah reading
 s in three different tropes\, Spanish\, Portuguese\, Algerienne and Yerush
 almi (Iraqi version.)\nLunch featuring traditional Shabbat recipes from Je
 wish communities in the Middle East\, North Africa and Mediterranean.\nRSV
 P a MUST-- office@csinyack.org
DTSTART;TZID=America/New_York:20250329T093000
DTEND;TZID=America/New_York:20250329T133000
END:VEVENT
END:VCALENDAR
