BEGIN:VCALENDAR
PRODID:-//eluceo/ical//2.0/EN
VERSION:2.0
CALSCALE:GREGORIAN
BEGIN:VEVENT
UID:5afd884cdd106d63b7cc770dd8d29ccb
DTSTAMP:20260420T054825Z
SUMMARY:Join us for Services and Dinner in our NHC Sukkah
DESCRIPTION:Jewish Federation & Foundation of Rockland County\nCommunity Ca
 lendar\nhttps://jewishrockland.org/calendar/services-and-dinner-in-nhc-suk
 kah-2015\n\nPlease join us for services and dinner in the NHC Sukkah\, on 
 Sunday\, September 27th\, at 6pm
DTSTART;TZID=America/New_York:20150927T180000
DTEND;TZID=America/New_York:20150927T210000
END:VEVENT
END:VCALENDAR
