BEGIN:VCALENDAR
PRODID:-//eluceo/ical//2.0/EN
VERSION:2.0
CALSCALE:GREGORIAN
BEGIN:VEVENT
UID:f1eea0eb82243e5af0c6ee8e7e2c4b03
DTSTAMP:20260424T080609Z
SUMMARY:Shaarey Israel Sisterhood presents Liraz Levi\, emmisary from Israe
 l
DESCRIPTION:Jewish Federation & Foundation of Rockland County\nCommunity Ca
 lendar\nhttps://jewishrockland.org/calendar/shaarey-israel-sisterhood-pres
 ents-liraz-levi-emmisary-from-israel-1449679662\n\nShaarey Israel Sisterho
 od presents Liraz Levi\, emissary from Israel to discuss fact versus ficti
 on in the news.
DTSTART;TZID=America/New_York:20160114T190000
DTEND;TZID=America/New_York:20160114T200000
END:VEVENT
END:VCALENDAR
