BEGIN:VCALENDAR
PRODID:-//eluceo/ical//2.0/EN
VERSION:2.0
CALSCALE:GREGORIAN
BEGIN:VEVENT
UID:0394bb3065b953b30e722d10c07946c6
DTSTAMP:20260419T231817Z
SUMMARY:"Shabbaba" Shabbat (families with kids 0-5) 
DESCRIPTION:Jewish Federation & Foundation of Rockland County\nCommunity Ca
 lendar\nhttps://jewishrockland.org/calendar/shabbaba-shabbat-63266\n\n"Sha
 bbaba" Shabbat for families with kids 0-5 years old. Join Rabbi Hersh for 
 a great Shabbat experience.
DTSTART;TZID=America/New_York:20140517T110000
DTEND;TZID=America/New_York:20140517T120000
END:VEVENT
END:VCALENDAR
