BEGIN:VCALENDAR
PRODID:-//eluceo/ical//2.0/EN
VERSION:2.0
CALSCALE:GREGORIAN
BEGIN:VEVENT
UID:1f823ce403f27b9b0fc369dd2d8fbc99
DTSTAMP:20260423T125055Z
SUMMARY:Shabbat Alive!
DESCRIPTION:Jewish Federation & Foundation of Rockland County\nCommunity Ca
 lendar\nhttps://jewishrockland.org/calendar/shabbat-alive-1560878028\n\nCo
 me join Montebello Jewish center for a BBQ Dinner\, followed by a musical\
 , participatory Kaballat Shabbat\, led by Rabbi Joshua Finkelstein and Can
 to Michelle Rubin\, and featuring our band\, Kol Rina\, and  Makhaylat Kol
  Chai choir. RSVPs are required.
DTSTART;TZID=America/New_York:20190621T180000
DTEND;TZID=America/New_York:20190621T200000
END:VEVENT
END:VCALENDAR
