BEGIN:VCALENDAR
PRODID:-//eluceo/ical//2.0/EN
VERSION:2.0
CALSCALE:GREGORIAN
BEGIN:VEVENT
UID:a1ea51d85d854e1a67a4470665e19414
DTSTAMP:20260421T171914Z
SUMMARY:Shabbat Cooking with Amalia at NCJC
DESCRIPTION:Jewish Federation & Foundation of Rockland County\nCommunity Ca
 lendar\nhttps://jewishrockland.org/calendar/shabbat-cooking-with-amalia-at
 -ncjc-7320\n\nShabbat Cooking with Amalia at NCJC
DTSTART;TZID=America/New_York:20130128T190000
DTEND;TZID=America/New_York:20130128T193000
END:VEVENT
END:VCALENDAR
