BEGIN:VCALENDAR
PRODID:-//eluceo/ical//2.0/EN
VERSION:2.0
CALSCALE:GREGORIAN
BEGIN:VEVENT
UID:c53adbb26a7b14a8bcabd0965c508a05
DTSTAMP:20260421T005753Z
SUMMARY:Shabbat Songs and Sundaes at CSI
DESCRIPTION:Jewish Federation & Foundation of Rockland County\nCommunity Ca
 lendar\nhttps://jewishrockland.org/calendar/shabbat-songs-and-sundaes-at-c
 si-1493413959\n\nFriday\, May 12\, 5 pm Shabbat Songs and Sundaes at CSI\n
 Congregation Sons of Israel\n300 North Broadway\, Upper Nyack\, NY 10960\n
 Join Rabbi Russo and Hazzan Kasper for Shabbat family songs and ice cream 
 sundaes. We will learn new tunes and enjoy a Shabbat treat together. Pleas
 e RSVP on Facebook or to the office at csioffice@optonline.net or 845-358-
 3767 by May 10.
DTSTART;TZID=America/New_York:20170512T170000
DTEND;TZID=America/New_York:20170512T183000
END:VEVENT
END:VCALENDAR
