BEGIN:VCALENDAR
PRODID:-//eluceo/ical//2.0/EN
VERSION:2.0
CALSCALE:GREGORIAN
BEGIN:VEVENT
UID:fcdf41200c9d5b6167ad0b1610c44651
DTSTAMP:20260419T192309Z
SUMMARY:Shabbat Tikvah Service at Temple Emanuel of the Pascack Valley
DESCRIPTION:Jewish Federation & Foundation of Rockland County\nCommunity Ca
 lendar\nhttps://jewishrockland.org/calendar/shabbat-tikvah-service-at-temp
 le-emanuel-of-the-pascack-valley\n\nShabbat Tikvah service at Temple Emanu
 el
DTSTART;TZID=America/New_York:20130920T200000
DTEND;TZID=America/New_York:20130920T203000
END:VEVENT
END:VCALENDAR
