BEGIN:VCALENDAR
PRODID:-//eluceo/ical//2.0/EN
VERSION:2.0
CALSCALE:GREGORIAN
BEGIN:VEVENT
UID:05247b5463516aa29edcea146441c24d
DTSTAMP:20260420T044947Z
SUMMARY:A Shabbat to Celebrate Jewish Education
DESCRIPTION:Jewish Federation & Foundation of Rockland County\nCommunity Ca
 lendar\nhttps://jewishrockland.org/calendar/shabbat-to-celebrate-jewish-ed
 ucation-62419\n\nJoin CSI for this special Shabbat as we celebrate our las
 t day of Hebrew School in addition to hosting families from the Rockland J
 ewish Academy. RJA will be recognizing Rabbi Abraham for his tireless work
  in helping to get the school off the ground the last couple of years. The
 re will be a special Ice Cream buffet for all children in attendance! All 
 are welcome! FREE
DTSTART;TZID=America/New_York:20140517T093000
DTEND;TZID=America/New_York:20140517T130000
END:VEVENT
END:VCALENDAR
