BEGIN:VCALENDAR
PRODID:-//eluceo/ical//2.0/EN
VERSION:2.0
CALSCALE:GREGORIAN
BEGIN:VEVENT
UID:e10b7645e1b60f06d61edf442e1e8d38
DTSTAMP:20260425T225041Z
SUMMARY:Shabbat Under The Stars
DESCRIPTION:Jewish Federation & Foundation of Rockland County\nCommunity Ca
 lendar\nhttps://jewishrockland.org/calendar/shabbat-under-the-stars-76692\
 n\nNight of food\, community\, and prayer at Montebello Jewish Center.  Ev
 ent is free and open to everyone.
DTSTART;TZID=America/New_York:20140801T173000
DTEND;TZID=America/New_York:20140801T193000
END:VEVENT
END:VCALENDAR
