BEGIN:VCALENDAR
PRODID:-//eluceo/ical//2.0/EN
VERSION:2.0
CALSCALE:GREGORIAN
BEGIN:VEVENT
UID:8a719660b05627b38b3be04ac632d50b
DTSTAMP:20260425T135218Z
SUMMARY:Shabbat Under The Stars
DESCRIPTION:Jewish Federation & Foundation of Rockland County\nCommunity Ca
 lendar\nhttps://jewishrockland.org/calendar/shabbat-under-the-stars-NHC\n\
 nEnd of summer barbeque and services. Tot Shabbat @ 5:00 pm\, Barbeque @ 5
 :30 pm - Evening Services @ 6:30 pm.\nRSVP by September 6 for admission gr
 atis
DTSTART;TZID=America/New_York:20170908T170000
DTEND;TZID=America/New_York:20170908T193000
END:VEVENT
END:VCALENDAR
