BEGIN:VCALENDAR
PRODID:-//eluceo/ical//2.0/EN
VERSION:2.0
CALSCALE:GREGORIAN
BEGIN:VEVENT
UID:8b496a87b02ed6eccb2bca1c85b0ef6e
DTSTAMP:20260423T090024Z
SUMMARY:Shabbat Zachor Hadassah & Hav'dalah
DESCRIPTION:Jewish Federation & Foundation of Rockland County\nCommunity Ca
 lendar\nhttps://jewishrockland.org/calendar/shabbat-zachor-hadassah--havda
 lah-1551717663\n\n5:30 pm Meet & Greet Gathering\n6:00 pm Shabbat Zachor P
 resentation\n6:30 pm Dinner Catered by Eagle’s Nest: kosher-style & vege
 tarian\nBuffet Menu: Oven Poached Salmon with Dill Sauce\; Penne Pasta wit
 h Sun-Dried Tomatoes\, Zucchini\, Pesto Marinara\; Eggplant Rollatini\; Ch
 ef’s Roasted Potato\; Fresh Vegetable Medley.\n7:15 pm Installation & Ha
 v’dalah Service\nInstallation of LNYS Officers/Board\, Recognition of Re
 gional & Chapter Boards & Chai Society “Pinning”\nGuest Speaker: Rache
 l...
DTSTART;TZID=America/New_York:20190316T173000
DTEND;TZID=America/New_York:20190316T203000
END:VEVENT
END:VCALENDAR
