BEGIN:VCALENDAR
PRODID:-//eluceo/ical//2.0/EN
VERSION:2.0
CALSCALE:GREGORIAN
BEGIN:VEVENT
UID:4a6afa3b35a5e1c93db1d78750910a64
DTSTAMP:20260420T233455Z
SUMMARY:Shadow in Baghdad
DESCRIPTION:Jewish Federation & Foundation of Rockland County\nCommunity Ca
 lendar\nhttps://jewishrockland.org/calendar/shadow-in-baghdad\n\nShadow in
  Baghdad\, a presentation by Shir Mnuchin\, daughter of the protagonist in
  the film\, "Shadow in Baghdad" which chronicles the disappearance of the 
 Jewish community in Iraq. Monday\, Feb. 24\, 7:30 PM in the Rockland Jewis
 h Community Campus Social Hall. Free and open to the public.
DTSTART;TZID=America/New_York:20140224T193000
DTEND;TZID=America/New_York:20140224T220000
END:VEVENT
END:VCALENDAR
